BEGIN:VCALENDAR
VERSION:2.0
PRODID:-// - ECPv6.15.20//NONSGML v1.0//EN
CALSCALE:GREGORIAN
METHOD:PUBLISH
X-ORIGINAL-URL:https://blackpoolgayaccommodation.com
X-WR-CALDESC:Events for 
REFRESH-INTERVAL;VALUE=DURATION:PT1H
X-Robots-Tag:noindex
X-PUBLISHED-TTL:PT1H
BEGIN:VTIMEZONE
TZID:Europe/London
BEGIN:DAYLIGHT
TZOFFSETFROM:+0000
TZOFFSETTO:+0100
TZNAME:BST
DTSTART:20240331T010000
END:DAYLIGHT
BEGIN:STANDARD
TZOFFSETFROM:+0100
TZOFFSETTO:+0000
TZNAME:GMT
DTSTART:20241027T010000
END:STANDARD
BEGIN:DAYLIGHT
TZOFFSETFROM:+0000
TZOFFSETTO:+0100
TZNAME:BST
DTSTART:20250330T010000
END:DAYLIGHT
BEGIN:STANDARD
TZOFFSETFROM:+0100
TZOFFSETTO:+0000
TZNAME:GMT
DTSTART:20251026T010000
END:STANDARD
BEGIN:DAYLIGHT
TZOFFSETFROM:+0000
TZOFFSETTO:+0100
TZNAME:BST
DTSTART:20260329T010000
END:DAYLIGHT
BEGIN:STANDARD
TZOFFSETFROM:+0100
TZOFFSETTO:+0000
TZNAME:GMT
DTSTART:20261025T010000
END:STANDARD
BEGIN:DAYLIGHT
TZOFFSETFROM:+0000
TZOFFSETTO:+0100
TZNAME:BST
DTSTART:20270328T010000
END:DAYLIGHT
BEGIN:STANDARD
TZOFFSETFROM:+0100
TZOFFSETTO:+0000
TZNAME:GMT
DTSTART:20271031T010000
END:STANDARD
END:VTIMEZONE
BEGIN:VEVENT
DTSTART;VALUE=DATE:20250806
DTEND;VALUE=DATE:20270101
DTSTAMP:20260425T164937
CREATED:20260114T224947Z
LAST-MODIFIED:20260114T225006Z
UID:1660-1754438400-1798761599@blackpoolgayaccommodation.com
SUMMARY:Rainbow Quarter - Blackpool - Lord Street - Bars
DESCRIPTION:The Dame Lane – 4 Pleasant Street\nDe-Lovely Bar – 82 Load Street\nMcGraths Irish Bar – 87 Lord Street\nNeon Bar – 15 Yates Street\nSecrests – 19 Cocker Street\nEvanescent – 18 Cocker Street\nTrades Bar – 51/55 Lord Street\nAntinous Lounge & Bistro – 49 Load Street\nBlackpool North Bar – 41 Banks Street\nMardi Gras Bar – 41/43 Load Street\nThe Hotel & Bar Blackpool – 22/24 Load Street\nRendezvous Bar – 15 Lord Street
URL:https://blackpoolgayaccommodation.com/event/rainbow-quarter-blackpool-lord-street-bars/
LOCATION:Lord Street\, Lord Street\, Blackpool\, Lancashire\, FY1 2BD\, United Kingdom
CATEGORIES:Rainbow Quarter
ATTACH;FMTTYPE=image/jpeg:https://blackpoolgayaccommodation.com/wp-content/uploads/2026/01/531610833_733193033039606_4032201733277598481_n.jpg
END:VEVENT
BEGIN:VEVENT
DTSTART;VALUE=DATE:20250806
DTEND;VALUE=DATE:20270101
DTSTAMP:20260425T164937
CREATED:20260114T225710Z
LAST-MODIFIED:20260114T225710Z
UID:1664-1754438400-1798761599@blackpoolgayaccommodation.com
SUMMARY:Rainbow Quarter - Blackpool - Queen Street - Bars
DESCRIPTION:Sherlock’s – 23 Queen St.\nCowboy & Co. – 27 Queen St.\nSlug & Lettuce – 8/14 Queen St.\nGalleion Bar – 68/79 Albion St.\nFlying Handbag – 44 Queen St.\n31 Queen St.\nBar 19 – 19 Queen St.\nWalkabout – 1/9 Queen St.
URL:https://blackpoolgayaccommodation.com/event/rainbow-quarter-blackpool-queen-street-bars/
LOCATION:Queen Street\, Queen Street\, Blackpool\, Lancashire\, FY1 1NL\, United Kingdom
CATEGORIES:Rainbow Quarter
ATTACH;FMTTYPE=image/jpeg:https://blackpoolgayaccommodation.com/wp-content/uploads/2026/01/516635105_704074229284820_7243740356297682324_n.jpg
END:VEVENT
BEGIN:VEVENT
DTSTART;VALUE=DATE:20260101
DTEND;VALUE=DATE:20270101
DTSTAMP:20260425T164937
CREATED:20260114T233238Z
LAST-MODIFIED:20260114T233238Z
UID:1673-1767225600-1798761599@blackpoolgayaccommodation.com
SUMMARY:Rainbow Quarter - Blackpool - Dickson Road - Bars
DESCRIPTION:Cuban Bar – 29a Dickson Road\nFunny Girls – 5 Dickson Road\nGin & Bear it Bar – 25 Dickson Road\nLu Lu’s Lounge – 78b/82 Dickson Road\nManBar / Growler – 25 Dickson Road\nOscars Nightclub – 5 Dickson Road\nPeek-a-Booze – 72/74 Dickson Road\nThe Duke – 60 Dickson Road
URL:https://blackpoolgayaccommodation.com/event/rainbow-quarter-blackpool-dickson-road-bars/
LOCATION:Dickson Road\, Dickson Road\, Blackpool\, Lancashire\, FY1 2AW\, United Kingdom
CATEGORIES:Rainbow Quarter
ATTACH;FMTTYPE=image/jpeg:https://blackpoolgayaccommodation.com/wp-content/uploads/2026/01/566302074_790401000652142_2913262905482131695_n.jpg
END:VEVENT
BEGIN:VEVENT
DTSTART;VALUE=DATE:20260206
DTEND;VALUE=DATE:20260209
DTSTAMP:20260425T164937
CREATED:20260114T224350Z
LAST-MODIFIED:20260114T224350Z
UID:1656-1770336000-1770595199@blackpoolgayaccommodation.com
SUMMARY:Blackpool Winter Pride 6 & 7th Feb 2026
DESCRIPTION:What to Expect:\n\nWinter Pride: A more intimate\, pub-focused experience with drag\, DJs\, and local venue crawls\, often free or low-cost.
URL:https://blackpoolgayaccommodation.com/event/blackpool-winter-pride-6-7th-feb-2026/
LOCATION:Lord Street\, Lord Street\, Blackpool\, Lancashire\, FY1 2BD\, United Kingdom
CATEGORIES:Rainbow Quarter
ATTACH;FMTTYPE=image/jpeg:https://blackpoolgayaccommodation.com/wp-content/uploads/2026/01/WinterPride.jpg
END:VEVENT
BEGIN:VEVENT
DTSTART;TZID=Europe/London:20260207T233000
DTEND;TZID=Europe/London:20260208T010000
DTSTAMP:20260425T164937
CREATED:20260115T234518Z
LAST-MODIFIED:20260115T235124Z
UID:1686-1770507000-1770512400@blackpoolgayaccommodation.com
SUMMARY:Johnny Wright – Midnight – Sat 7th Feb – The Flying Handbag – Winter Pride
DESCRIPTION:Winter Pride Party Weekend is nearly here! \nWe’re proud to be raising funds for Blackpool Pride Festival\, and the energy is building…\n\n\nJohnny Wright will be joining us at midnight on Saturday\, 7th\, ready to take the party up a level! \n\n\nGet yourself down for an unforgettable night!
URL:https://blackpoolgayaccommodation.com/event/johnny-wright-midnight-sat-7th-feb-the-flying-handbag-winter-pride/
LOCATION:The Flying Handbag\, 44 Queen Street\, Blackpool\, Lancashire\, FY1 2AY\, United Kingdom
CATEGORIES:Rainbow Quarter
ATTACH;FMTTYPE=image/jpeg:https://blackpoolgayaccommodation.com/wp-content/uploads/2026/01/JonnyWrightWinterPride2026.jpg
END:VEVENT
BEGIN:VEVENT
DTSTART;TZID=Europe/London:20260221T080000
DTEND;TZID=Europe/London:20260228T213000
DTSTAMP:20260425T164937
CREATED:20260202T191006Z
LAST-MODIFIED:20260202T191006Z
UID:1783-1771660800-1772314200@blackpoolgayaccommodation.com
SUMMARY:FEBRUARY AT MCGRATHS
DESCRIPTION:Belinda Scandal – Sat 14th Feb\nPolly Glamourous – Fri 20th Feb\nLola Lasagne Sat 21st Feb\nShania Pain Sat 28th Feb
URL:https://blackpoolgayaccommodation.com/event/february-at-mcgraths/
LOCATION:Lord Street\, Lord Street\, Blackpool\, Lancashire\, FY1 2BD\, United Kingdom
CATEGORIES:Rainbow Quarter
ATTACH;FMTTYPE=image/jpeg:https://blackpoolgayaccommodation.com/wp-content/uploads/2026/02/FEB2026_n.jpg
END:VEVENT
BEGIN:VEVENT
DTSTART;VALUE=DATE:20260605
DTEND;VALUE=DATE:20260608
DTSTAMP:20260425T164937
CREATED:20260114T230652Z
LAST-MODIFIED:20260114T230652Z
UID:1670-1780617600-1780876799@blackpoolgayaccommodation.com
SUMMARY:Blackpool Pride - 5th\, 6th\, 7th June 2026
DESCRIPTION:Blackpool Pride – 5th\, 6th\, 7th June 2026 \nWe are so excited to celebrate Blackpool Pride’s 20th Anniversary
URL:https://blackpoolgayaccommodation.com/event/blackpool-pride-5th-6th-7th-june-2026/
LOCATION:Lord Street\, Lord Street\, Blackpool\, Lancashire\, FY1 2BD\, United Kingdom
CATEGORIES:Rainbow Quarter
ATTACH;FMTTYPE=image/jpeg:https://blackpoolgayaccommodation.com/wp-content/uploads/2026/01/519950619_1286657416419652_1990303465063329197_n.jpg
END:VEVENT
BEGIN:VEVENT
DTSTART;TZID=Europe/London:20260613T200000
DTEND;TZID=Europe/London:20260613T230000
DTSTAMP:20260425T164937
CREATED:20260116T004903Z
LAST-MODIFIED:20260116T010952Z
UID:1693-1781380800-1781391600@blackpoolgayaccommodation.com
SUMMARY:THE ULTIMATE LADIES NIGHT SHOW - Ticket Event
DESCRIPTION:The Ultimate Ladies Night Show: Unforgettable. Uncensored. Unleashed! Ticket price incl. booking fee £16.26 \nhttps://www.ticketsource.co.uk/whats-on/blackpool/oscars/postponed-the-ultimate-ladies-night-show-presents-a-christmas-cracker-a-show-with-balls/2026-06-13/20:00/t-yzqrjxg
URL:https://blackpoolgayaccommodation.com/event/the-ultimate-ladies-night-show-ticket-event/
LOCATION:Lancashire
CATEGORIES:Rainbow Quarter
ATTACH;FMTTYPE=image/jpeg:https://blackpoolgayaccommodation.com/wp-content/uploads/2026/01/90361-1766745920906-m.jpg
END:VEVENT
BEGIN:VEVENT
DTSTART;VALUE=DATE:20260701
DTEND;VALUE=DATE:20260706
DTSTAMP:20260425T164937
CREATED:20260114T221315Z
LAST-MODIFIED:20260114T221315Z
UID:1641-1782864000-1783295999@blackpoolgayaccommodation.com
SUMMARY:Lytham Festival in Lytham St Annes - July 1st to 5th\, 2026
DESCRIPTION:Lytham Festival in Lytham St Annes is scheduled to take place from July 1st to 5th\, 2026. The festival is a five-day live music event held on the banks of the Ribble Estuary and attracts large crowds. Children aged two and under can attend for free\, but all other children require a full-price ticket. Prams are not permitted at the festival
URL:https://blackpoolgayaccommodation.com/event/lytham-festival-in-lytham-st-annes-july-1st-to-5th-2026/
LOCATION:St Anne’s Square & Asjton Gardens\, Clifton Dr N\, St. Annes-on-Sea\,\, Lytham Saint Annes\, FY8 2NY\, United Kingdom
CATEGORIES:Ticket Event
ATTACH;FMTTYPE=image/jpeg:https://blackpoolgayaccommodation.com/wp-content/uploads/2026/01/lytham-2026-save-the-date-1080x1080-9.jpg
END:VEVENT
BEGIN:VEVENT
DTSTART;TZID=Europe/London:20260711T120000
DTEND;TZID=Europe/London:20260712T233000
DTSTAMP:20260425T164937
CREATED:20260114T223723Z
LAST-MODIFIED:20260114T233613Z
UID:1652-1783771200-1783899000@blackpoolgayaccommodation.com
SUMMARY:Rock & Roll Weekender 2026
DESCRIPTION:11th & 12th July 2026 12noon – Midnight. Tickets from £85pp. Venture Away Music Weekends: The Blackpool Tower Ballroom.
URL:https://blackpoolgayaccommodation.com/event/rock-roll-weekender-2026/
LOCATION:Lancashire
CATEGORIES:Ticket Event
ATTACH;FMTTYPE=image/jpeg:https://blackpoolgayaccommodation.com/wp-content/uploads/2026/01/RockNRole.jpg
END:VEVENT
END:VCALENDAR